BEGIN:VCALENDAR
VERSION:2.0
PRODID:SchoolNow
CALSCALE:GREGORIAN
BEGIN:VEVENT
UID:da5ffc0a-c04f-11ee-bd60-0a58a9feac02
DTSTAMP:20240131T154609Z
SUMMARY:Fall 2024- FAFSA Completion Priority Deadline
URL;VALUE=URI:https://www.ladelta.edu/calendar/5235645/fall-2024-fafsa-comp
 letion-priority-deadline
DTSTART;VALUE=DATE:20240515
DTEND;VALUE=DATE:20240516
END:VEVENT
END:VCALENDAR
