BEGIN:VCALENDAR
VERSION:2.0
PRODID:SchoolNow
CALSCALE:GREGORIAN
BEGIN:VEVENT
UID:3dc69ef2-c050-11ee-a40b-0ea45561ddeb
DTSTAMP:20240131T154856Z
SUMMARY:Fall 2024- Full Term and 1st Half Term SAP Priority Deadline
URL;VALUE=URI:https://www.ladelta.edu/calendar/5235646/fall-2024-full-term-
 and-1st-half-term-sap-priority-deadline
DTSTART;VALUE=DATE:20240630
DTEND;VALUE=DATE:20240701
END:VEVENT
END:VCALENDAR
