BEGIN:VCALENDAR
VERSION:2.0
PRODID:SchoolNow
CALSCALE:GREGORIAN
BEGIN:VEVENT
UID:a19c8844-5a1f-11ed-883a-0eac7215deff
DTSTAMP:20221101T195902Z
SUMMARY:Harvest Hayride -Bastrop Campus
LOCATION:6376 Airport Road Bastrop\, LA 71220
URL;VALUE=URI:https://www.ladelta.edu/campuses/bastrop/calendar/3579023/har
 vest-hayride-bastrop-campus
DTSTART:20221117T170000Z
DTEND:20221117T200000Z
END:VEVENT
END:VCALENDAR
