BEGIN:VCALENDAR
VERSION:2.0
PRODID:SchoolNow
CALSCALE:GREGORIAN
BEGIN:VEVENT
UID:bbfdf3da-f127-11ee-9f5b-0a58a9feac02
DTSTAMP:20240402T193225Z
SUMMARY:Rock Enroll at LDCC Bastrop
URL;VALUE=URI:https://www.ladelta.edu/campuses/bastrop/calendar/5692107/roc
 k-enroll-at-ldcc-bastrop
DTSTART:20240411T140000Z
DTEND:20240411T200000Z
END:VEVENT
END:VCALENDAR
