BEGIN:VCALENDAR
VERSION:2.0
PRODID:SchoolNow
CALSCALE:GREGORIAN
BEGIN:VEVENT
UID:8d144940-f297-11ee-bb81-0a58a9feac02
DTSTAMP:20240404T152521Z
SUMMARY:Financial Literacy Workshop by Kraftman FCU at LDCC Bastrop
URL;VALUE=URI:https://www.ladelta.edu/campuses/bastrop/calendar/5708003/fin
 ancial-literacy-workshop-by-kraftman-fcu-at-ldcc-bastrop
DTSTART:20240409T150000Z
DTEND:20240409T160000Z
END:VEVENT
END:VCALENDAR
