BEGIN:VCALENDAR
VERSION:2.0
PRODID:SchoolNow
CALSCALE:GREGORIAN
BEGIN:VEVENT
UID:18362a0c-f298-11ee-9b7c-0e79b710e1d9
DTSTAMP:20240404T152915Z
SUMMARY:FAFSA Rally Night at LDCC Bastrop
URL;VALUE=URI:https://www.ladelta.edu/campuses/bastrop/calendar/5708004/faf
 sa-rally-night-at-ldcc-bastrop
DTSTART:20240409T220000Z
DTEND:20240410T000000Z
END:VEVENT
END:VCALENDAR
