BEGIN:VCALENDAR
VERSION:2.0
PRODID:SchoolNow
CALSCALE:GREGORIAN
BEGIN:VEVENT
UID:0ae03646-4378-11ef-b713-0ea2de43dde3
DTSTAMP:20240718T131515Z
SUMMARY:Stop the Bleed\, Save a Life: Community Event
URL;VALUE=URI:https://www.ladelta.edu/campuses/bastrop/calendar/6267425/sto
 p-the-bleed-save-a-life-community-event
DTSTART:20240801T160000Z
DTEND:20240803T180000Z
END:VEVENT
END:VCALENDAR
