BEGIN:VCALENDAR
VERSION:2.0
PRODID:SchoolNow
CALSCALE:GREGORIAN
BEGIN:VEVENT
UID:dcab435e-54d6-11ef-8400-0eaf28a02189
DTSTAMP:20240807T161430Z
SUMMARY:Constitution and Voter Registration Day Program
URL;VALUE=URI:https://www.ladelta.edu/campuses/bastrop/calendar/6366347/con
 stitution-day-program-and-refreshments
DTSTART:20240916T150000Z
DTEND:20240916T160000Z
ATTACH;FILENAME=080724_ConstitutionDayProgram_Bastrop.pdf;FMTTYPE=applicati
 on/pdf:https://campussuite-storage.s3.amazonaws.com/prod/1558933/ecbeffe8-
 ef90-11e9-9d39-12ae0ad320c0/2826551/d8dbe1b6-54d6-11ef-8579-0e2d80489dd7/f
 ile/080724_ConstitutionDayProgram_Bastrop.pdf
END:VEVENT
END:VCALENDAR
