BEGIN:VCALENDAR
VERSION:2.0
PRODID:SchoolNow
CALSCALE:GREGORIAN
BEGIN:VEVENT
UID:17867d3a-5e42-11ef-a947-0a58a9feac02
DTSTAMP:20240819T154542Z
SUMMARY:Welcome Back Breakfast
URL;VALUE=URI:https://www.ladelta.edu/campuses/bastrop/calendar/6426456/wel
 come-back-breakfast
DTSTART:20240826T124500Z
DTEND:20240826T134500Z
END:VEVENT
END:VCALENDAR
