BEGIN:VCALENDAR
VERSION:2.0
PRODID:SchoolNow
CALSCALE:GREGORIAN
BEGIN:VEVENT
UID:547469f0-5e42-11ef-8884-0a58a9feac02
DTSTAMP:20240819T154724Z
SUMMARY:Grab & Go Snacks
URL;VALUE=URI:https://www.ladelta.edu/campuses/bastrop/calendar/6426457/gra
 b-go-snacks
DTSTART:20240828T163000Z
DTEND:20240828T173000Z
END:VEVENT
END:VCALENDAR
