BEGIN:VCALENDAR
VERSION:2.0
PRODID:SchoolNow
CALSCALE:GREGORIAN
BEGIN:VEVENT
UID:652c05aa-5e42-11ef-8c86-0a58a9feac02
DTSTAMP:20240819T154753Z
SUMMARY:Popcorn Social
URL;VALUE=URI:https://www.ladelta.edu/campuses/bastrop/calendar/6426458/pop
 corn-social
DTSTART:20240830T163000Z
DTEND:20240830T173000Z
END:VEVENT
END:VCALENDAR
