BEGIN:VCALENDAR
VERSION:2.0
PRODID:SchoolNow
CALSCALE:GREGORIAN
BEGIN:VEVENT
UID:4157b480-cde6-11ef-94d4-0a58a9feac02
DTSTAMP:20250108T173029Z
SUMMARY:OER Student Awareness Day: Lunch and Learn at LDCC Bastrop!
URL;VALUE=URI:https://www.ladelta.edu/campuses/bastrop/calendar/7286725/oer
 -student-awareness-day-lunch-and-learn-at-ldcc-bastrop
DTSTART:20250227T180000Z
DTEND:20250227T190000Z
END:VEVENT
END:VCALENDAR
