BEGIN:VCALENDAR
VERSION:2.0
PRODID:SchoolNow
CALSCALE:GREGORIAN
BEGIN:VEVENT
UID:81b27e78-ce92-11ef-81d6-0a58a9feac02
DTSTAMP:20250109T140330Z
SUMMARY:Mental Health Lunch and Learn: LDCC Bastrop
URL;VALUE=URI:https://www.ladelta.edu/campuses/bastrop/calendar/7290649/men
 tal-health-lunch-and-learn-ldcc-bastrop
DTSTART:20250211T170000Z
DTEND:20250211T180000Z
END:VEVENT
END:VCALENDAR
