BEGIN:VCALENDAR
VERSION:2.0
PRODID:SchoolNow
CALSCALE:GREGORIAN
BEGIN:VEVENT
UID:8146a6b2-e3eb-11ef-bd43-0affe915ba2b
DTSTAMP:20250205T180329Z
SUMMARY:Practical Nursing Interest Meeting: LDCC Bastrop
URL;VALUE=URI:https://www.ladelta.edu/campuses/bastrop/calendar/7427646/pra
 ctical-nursing-interest-meeting-ldcc-bastrop
DTSTART:20250331T190000Z
DTEND:20250331T200000Z
END:VEVENT
END:VCALENDAR
