BEGIN:VCALENDAR
VERSION:2.0
PRODID:SchoolNow
CALSCALE:GREGORIAN
BEGIN:VEVENT
UID:cade894a-4794-11f0-a05e-0affe33dc041
DTSTAMP:20250612T135443Z
SUMMARY:Summer Safety at the Bastrop Sim Center!
URL;VALUE=URI:https://www.ladelta.edu/campuses/bastrop/calendar/8291694/sum
 mer-safety-at-the-bastrop-sim-center
DTSTART:20250711T130000Z
DTEND:20250711T170000Z
END:VEVENT
END:VCALENDAR
