BEGIN:VCALENDAR
VERSION:2.0
PRODID:SchoolNow
CALSCALE:GREGORIAN
BEGIN:VEVENT
UID:ca0dbeea-b365-11f0-900a-0a58a9feac02
DTSTAMP:20251027T185141Z
SUMMARY:LDCC Bastrop Welding & LPN Interest Meeting
URL;VALUE=URI:https://www.ladelta.edu/campuses/bastrop/calendar/8755353/ldc
 c-bastrop-welding-lpn-interest-meeting
DTSTART:20251104T160000Z
DTEND:20251104T170000Z
END:VEVENT
END:VCALENDAR
