BEGIN:VCALENDAR
VERSION:2.0
PRODID:SchoolNow
CALSCALE:GREGORIAN
BEGIN:VEVENT
UID:d4b4b07e-b365-11f0-9e2b-0a58a9feac02
DTSTAMP:20251027T185153Z
SUMMARY:LDCC Bastrop Welding & LPN Interest Meeting
URL;VALUE=URI:https://www.ladelta.edu/campuses/bastrop/calendar/8755354/ldc
 c-bastrop-welding-lpn-interest-meeting-clone
DTSTART:20251104T210000Z
DTEND:20251104T220000Z
END:VEVENT
END:VCALENDAR
