BEGIN:VCALENDAR
VERSION:2.0
PRODID:SchoolNow
CALSCALE:GREGORIAN
BEGIN:VEVENT
UID:e4e99f40-b365-11f0-b022-0a58a9feac02
DTSTAMP:20251027T185205Z
SUMMARY:LDCC Bastrop Welding & LPN Interest Meeting
URL;VALUE=URI:https://www.ladelta.edu/campuses/bastrop/calendar/8755355/ldc
 c-bastrop-welding-lpn-interest-meeting-clone
DTSTART:20251118T160000Z
DTEND:20251118T170000Z
END:VEVENT
END:VCALENDAR
