BEGIN:VCALENDAR
VERSION:2.0
PRODID:SchoolNow
CALSCALE:GREGORIAN
BEGIN:VEVENT
UID:ef5f8dc2-b365-11f0-8cc5-0285a35182b7
DTSTAMP:20251027T185216Z
SUMMARY:LDCC Bastrop Welding & LPN Interest Meeting
URL;VALUE=URI:https://www.ladelta.edu/campuses/bastrop/calendar/8755356/ldc
 c-bastrop-welding-lpn-interest-meeting-clone
DTSTART:20251118T210000Z
DTEND:20251118T220000Z
END:VEVENT
END:VCALENDAR
