BEGIN:VCALENDAR
VERSION:2.0
PRODID:SchoolNow
CALSCALE:GREGORIAN
BEGIN:VEVENT
UID:5935e152-2a0b-11ed-8f18-0aee7f7386a9
DTSTAMP:20220901T153254Z
SUMMARY:Life Share Blood Drive - Jonesboro Campus
URL;VALUE=URI:https://www.ladelta.edu/campuses/jonesboro/calendar/3329044/l
 ife-share-blood-drive-jonesboro-campus
DTSTART:20221003T150000Z
DTEND:20221003T190000Z
END:VEVENT
END:VCALENDAR
