BEGIN:VCALENDAR
VERSION:2.0
PRODID:SchoolNow
CALSCALE:GREGORIAN
BEGIN:VEVENT
UID:72f967b4-5a29-11ed-82d4-0a0c4a410a7f
DTSTAMP:20221109T152112Z
SUMMARY:Veterans Day Breakfast - Jonesboro Campus
LOCATION:Jonesboro Campus
URL;VALUE=URI:https://www.ladelta.edu/campuses/jonesboro/calendar/3579587/v
 eterans-day-breakfast
DTSTART:20221110T140000Z
DTEND:20221110T160000Z
ATTACH;FILENAME=Veterans Day Flyer.png;FMTTYPE=image/png:https://campussuit
 e-storage.s3.amazonaws.com/prod/1558933/ecbeffe8-ef90-11e9-9d39-12ae0ad320
 c0/2502814/2df4cd34-5a29-11ed-a4a4-0a0c4a410a7f/file/Veterans Day Flyer.pn
 g
END:VEVENT
END:VCALENDAR
