BEGIN:VCALENDAR
VERSION:2.0
PRODID:SchoolNow
CALSCALE:GREGORIAN
BEGIN:VEVENT
UID:235950ae-9c21-11ed-95b0-0e32beac629f
DTSTAMP:20230124T195605Z
SUMMARY:QEP Visit - Jonesboro Campus
LOCATION:Jonesboro Campus
URL;VALUE=URI:https://www.ladelta.edu/campuses/jonesboro/calendar/3687680/q
 ep-visit-jonesboro-campus
DTSTART:20230216T190000Z
DTEND:20230216T200000Z
END:VEVENT
END:VCALENDAR
