BEGIN:VCALENDAR
VERSION:2.0
PRODID:SchoolNow
CALSCALE:GREGORIAN
BEGIN:VEVENT
UID:490d1f2e-9c21-11ed-be8f-0e32beac629f
DTSTAMP:20230124T195709Z
SUMMARY:Stress Awareness and Stress Management Workshop - Jonesboro Campus
LOCATION:Jonesboro Campus
URL;VALUE=URI:https://www.ladelta.edu/campuses/jonesboro/calendar/3687681/s
 tress-awareness-and-stress-management-workshop-jonesboro-campus
DTSTART:20230301T163000Z
DTEND:20230301T171500Z
END:VEVENT
END:VCALENDAR
