BEGIN:VCALENDAR
VERSION:2.0
PRODID:SchoolNow
CALSCALE:GREGORIAN
BEGIN:VEVENT
UID:7e9de858-9c21-11ed-9784-0e32beac629f
DTSTAMP:20230124T195839Z
SUMMARY:Coffee and Conversation with Chancellor - Jonesboro Campus
LOCATION:Jonesboro Campus
URL;VALUE=URI:https://www.ladelta.edu/campuses/jonesboro/calendar/3687682/c
 offee-and-conversation-with-chancellor-jonesboro-campus
DTSTART:20230302T160000Z
DTEND:20230302T170000Z
END:VEVENT
END:VCALENDAR
