BEGIN:VCALENDAR
VERSION:2.0
PRODID:SchoolNow
CALSCALE:GREGORIAN
BEGIN:VEVENT
UID:d9e72a6c-9c21-11ed-82d4-0e32beac629f
DTSTAMP:20230124T200112Z
SUMMARY:Resume and Cover Letter Writing Workshop - Jonesboro Campus
LOCATION:Jonesboro Campus
URL;VALUE=URI:https://www.ladelta.edu/campuses/jonesboro/calendar/3687683/r
 esume-and-cover-letter-writing-workshop-jonesboro-campus
DTSTART:20230328T151500Z
DTEND:20230328T161500Z
END:VEVENT
END:VCALENDAR
