BEGIN:VCALENDAR
VERSION:2.0
PRODID:SchoolNow
CALSCALE:GREGORIAN
BEGIN:VEVENT
UID:9ab825ca-e9ed-11ed-9075-0aa27497a447
DTSTAMP:20230503T200343Z
SUMMARY:Faculty and Staff Appreciation Luncheon
LOCATION:Ruston Campus
URL;VALUE=URI:https://www.ladelta.edu/campuses/jonesboro/calendar/4176301/f
 aculty-and-staff-appreciation-luncheon
DTSTART:20230509T163000Z
DTEND:20230509T180000Z
END:VEVENT
END:VCALENDAR
