BEGIN:VCALENDAR
VERSION:2.0
PRODID:SchoolNow
CALSCALE:GREGORIAN
BEGIN:VEVENT
UID:c311ac30-e9ed-11ed-9925-0aa27497a447
DTSTAMP:20230503T200450Z
SUMMARY:Cap Adornment Party
LOCATION:Jonesboro Campus in Room 136
URL;VALUE=URI:https://www.ladelta.edu/campuses/jonesboro/calendar/4176302/c
 ap-adornment-party
DTSTART:20230510T180000Z
DTEND:20230510T190000Z
END:VEVENT
END:VCALENDAR
