BEGIN:VCALENDAR
VERSION:2.0
PRODID:SchoolNow
CALSCALE:GREGORIAN
BEGIN:VEVENT
UID:e441ef82-e9ed-11ed-9cac-0aa27497a447
DTSTAMP:20230620T173942Z
SUMMARY:Independence Day Social - Jonesboro Campus
LOCATION:Jonesboro Campus
URL;VALUE=URI:https://www.ladelta.edu/campuses/jonesboro/calendar/4176303/i
 ndependence-day-social
DTSTART:20230706T160000Z
DTEND:20230706T170000Z
ATTACH;FILENAME=Independence Day Social Flyer.png;FMTTYPE=image/png:https:/
 /campussuite-storage.s3.amazonaws.com/prod/1558933/ecbeffe8-ef90-11e9-9d39
 -12ae0ad320c0/2587611/1ea06be6-e9ed-11ed-a557-0aa27497a447/file/Independen
 ce Day Social Flyer.png
END:VEVENT
END:VCALENDAR
