BEGIN:VCALENDAR
VERSION:2.0
PRODID:SchoolNow
CALSCALE:GREGORIAN
BEGIN:VEVENT
UID:a0a557cc-0b81-11ee-b75e-0a99037e7545
DTSTAMP:20230615T133626Z
SUMMARY:National Ice Cream Day Social
LOCATION:Louisiana Delta Community College - Jonesboro Campus
URL;VALUE=URI:https://www.ladelta.edu/campuses/jonesboro/calendar/4392650/n
 ational-ice-cream-day-social
DTSTART:20230719T150000Z
DTEND:20230719T170000Z
ATTACH;FILENAME=National Ice Cream Day Jonesboro.png;FMTTYPE=image/png:http
 s://campussuite-storage.s3.amazonaws.com/prod/1558933/ecbeffe8-ef90-11e9-9
 d39-12ae0ad320c0/2614752/8dea51be-0b81-11ee-81a5-0a99037e7545/file/Nationa
 l Ice Cream Day Jonesboro.png
END:VEVENT
END:VCALENDAR
