BEGIN:VCALENDAR
VERSION:2.0
PRODID:SchoolNow
CALSCALE:GREGORIAN
BEGIN:VEVENT
UID:e35807cc-f127-11ee-b90d-0afffa880b75
DTSTAMP:20240402T193331Z
SUMMARY:Rock Enroll at LDCC Jonesboro
URL;VALUE=URI:https://www.ladelta.edu/campuses/jonesboro/calendar/5692109/r
 ock-enroll-at-ldcc-jonesboro
DTSTART:20240411T130000Z
DTEND:20240411T210000Z
END:VEVENT
END:VCALENDAR
