BEGIN:VCALENDAR
VERSION:2.0
PRODID:SchoolNow
CALSCALE:GREGORIAN
BEGIN:VEVENT
UID:43350614-f1bd-11ee-95a4-0a58a9feac02
DTSTAMP:20240403T132247Z
SUMMARY:FAFSA Frenzy Night
URL;VALUE=URI:https://www.ladelta.edu/campuses/jonesboro/calendar/5698067/f
 afsa-frenzy-night
DTSTART:20240415T213000Z
DTEND:20240415T233000Z
END:VEVENT
END:VCALENDAR
