BEGIN:VCALENDAR
VERSION:2.0
PRODID:SchoolNow
CALSCALE:GREGORIAN
BEGIN:VEVENT
UID:bed7ac32-f1f8-11ee-b948-0ec0eff797bf
DTSTAMP:20240403T202835Z
SUMMARY:Manufacturing Night at LDCC Jonesboro
URL;VALUE=URI:https://www.ladelta.edu/campuses/jonesboro/calendar/5701500/m
 anufacturing-night-at-ldcc-jonesboro
DTSTART:20240502T213000Z
DTEND:20240502T233000Z
END:VEVENT
END:VCALENDAR
