BEGIN:VCALENDAR
VERSION:2.0
PRODID:SchoolNow
CALSCALE:GREGORIAN
BEGIN:VEVENT
UID:7715aa4e-2294-11ef-a70c-02db65fbf8e1
DTSTAMP:20240618T145113Z
SUMMARY:Independence Day BBQ
URL;VALUE=URI:https://www.ladelta.edu/campuses/jonesboro/calendar/6075993/i
 ndependence-day-bbq
DTSTART:20240702T160000Z
DTEND:20240702T170000Z
END:VEVENT
END:VCALENDAR
