BEGIN:VCALENDAR
VERSION:2.0
PRODID:SchoolNow
CALSCALE:GREGORIAN
BEGIN:VEVENT
UID:6e180e04-2d80-11ef-b408-0a58a9feac02
DTSTAMP:20240618T143829Z
SUMMARY:Welcome Back Week!
URL;VALUE=URI:https://www.ladelta.edu/campuses/jonesboro/calendar/6138893/w
 elcome-back-week
DTSTART:20240819T130000Z
DTEND:20240820T170000Z
END:VEVENT
END:VCALENDAR
