BEGIN:VCALENDAR
VERSION:2.0
PRODID:SchoolNow
CALSCALE:GREGORIAN
BEGIN:VEVENT
UID:bb31be74-3ed8-11ef-b7b4-0a58a9feac02
DTSTAMP:20240710T162324Z
SUMMARY:Session 1: Welding\, Industrial Maintenance\, and HEO Interest Meet
 ing
URL;VALUE=URI:https://www.ladelta.edu/campuses/jonesboro/calendar/6242170/s
 ession-1-welding-industrial-maintenance-and-heo-interest-meeting
DTSTART:20240723T160000Z
DTEND:20240723T173000Z
END:VEVENT
END:VCALENDAR
