BEGIN:VCALENDAR
VERSION:2.0
PRODID:SchoolNow
CALSCALE:GREGORIAN
BEGIN:VEVENT
UID:e1d4e02e-3ed8-11ef-9eb5-0e79aae2087f
DTSTAMP:20240710T162441Z
SUMMARY:Session 2: Welding\, Industrial Maintenance\, and HEO Interest Meet
 ing
URL;VALUE=URI:https://www.ladelta.edu/campuses/jonesboro/calendar/6242171/s
 ession-1-welding-industrial-maintenance-and-heo-interest-meeting
DTSTART:20240723T210000Z
DTEND:20240723T223000Z
END:VEVENT
END:VCALENDAR
