BEGIN:VCALENDAR
VERSION:2.0
PRODID:SchoolNow
CALSCALE:GREGORIAN
BEGIN:VEVENT
UID:6e90b674-a6b6-11ef-a5a8-0a58a9feac02
DTSTAMP:20241119T203954Z
SUMMARY:Welcome Back Event: LDCC Jonesboro
URL;VALUE=URI:https://www.ladelta.edu/campuses/jonesboro/calendar/7047949/w
 elcome-back-event-ldcc-jonesboro
DTSTART:20250113T160000Z
DTEND:20250113T180000Z
END:VEVENT
END:VCALENDAR
