BEGIN:VCALENDAR
VERSION:2.0
PRODID:SchoolNow
CALSCALE:GREGORIAN
BEGIN:VEVENT
UID:b70267f2-cde6-11ef-83c2-02baf359db1b
DTSTAMP:20250108T173346Z
SUMMARY:OER Student Awareness Day: Lunch and Learn at LDCC Jonesboro!
URL;VALUE=URI:https://www.ladelta.edu/campuses/jonesboro/calendar/7286726/o
 er-student-awareness-day-lunch-and-learn-at-ldcc-jonesboro
DTSTART:20250211T170000Z
DTEND:20250211T180000Z
END:VEVENT
END:VCALENDAR
