BEGIN:VCALENDAR
VERSION:2.0
PRODID:SchoolNow
CALSCALE:GREGORIAN
BEGIN:VEVENT
UID:487395ba-ce93-11ef-bdc1-0a58a9feac02
DTSTAMP:20250109T140904Z
SUMMARY:Mental Health Lunch and Learn: LDCC Jonesboro
URL;VALUE=URI:https://www.ladelta.edu/campuses/jonesboro/calendar/7290650/m
 ental-health-lunch-and-learn-ldcc-jonesboro
DTSTART:20250212T170000Z
DTEND:20250212T180000Z
END:VEVENT
END:VCALENDAR
