BEGIN:VCALENDAR
VERSION:2.0
PRODID:SchoolNow
CALSCALE:GREGORIAN
BEGIN:VEVENT
UID:2844444c-d4ec-11ef-8b95-0a58a9feac02
DTSTAMP:20250117T160022Z
SUMMARY:Spring Knightsfest: LDCC Jonesboro
URL;VALUE=URI:https://www.ladelta.edu/campuses/jonesboro/calendar/7329643/s
 pring-knightsfest-ldcc-jonesboro
DTSTART:20250326T160000Z
DTEND:20250326T170000Z
END:VEVENT
END:VCALENDAR
