BEGIN:VCALENDAR
VERSION:2.0
PRODID:SchoolNow
CALSCALE:GREGORIAN
BEGIN:VEVENT
UID:07e4220a-ee17-11ef-9217-0affc2dc0c53
DTSTAMP:20250218T164015Z
SUMMARY:Campus Director Chats with Patience Talley: LDCC Jonesboro
URL;VALUE=URI:https://www.ladelta.edu/campuses/jonesboro/calendar/7494056/c
 ampus-director-chats-with-patience-talley-ldcc-jonesboro
DTSTART:20250218T173000Z
DTEND:20250218T180000Z
END:VEVENT
END:VCALENDAR
