BEGIN:VCALENDAR
VERSION:2.0
PRODID:SchoolNow
CALSCALE:GREGORIAN
BEGIN:VEVENT
UID:79f2bcc6-63c6-11ee-8754-02d1d1d62b0b
DTSTAMP:20231005T213059Z
SUMMARY:Professionalism Workshop
URL;VALUE=URI:https://www.ladelta.edu/campuses/lake-providence/calendar/483
 5531/professionalism-workshop
DTSTART:20231016T160000Z
DTEND:20231016T170000Z
END:VEVENT
END:VCALENDAR
