BEGIN:VCALENDAR
VERSION:2.0
PRODID:SchoolNow
CALSCALE:GREGORIAN
BEGIN:VEVENT
UID:bd7e5cc4-71aa-11ee-bac8-0ae1fdafbb9f
DTSTAMP:20231023T134743Z
SUMMARY:Financial Aid Awareness Event
URL;VALUE=URI:https://www.ladelta.edu/campuses/lake-providence/calendar/489
 2000/financial-aid-awareness-event
DTSTART:20231024T165000Z
DTEND:20231024T175000Z
END:VEVENT
END:VCALENDAR
