BEGIN:VCALENDAR
VERSION:2.0
PRODID:SchoolNow
CALSCALE:GREGORIAN
BEGIN:VEVENT
UID:a1f63952-8552-11ee-b7db-0e6386277d05
DTSTAMP:20231117T142421Z
SUMMARY:Financial Literacy Workshop
URL;VALUE=URI:https://www.ladelta.edu/campuses/lake-providence/calendar/495
 4350/financial-literacy-workshop
DTSTART:20231208T160000Z
DTEND:20231208T170000Z
END:VEVENT
END:VCALENDAR
