BEGIN:VCALENDAR
VERSION:2.0
PRODID:SchoolNow
CALSCALE:GREGORIAN
BEGIN:VEVENT
UID:4455e0fe-f127-11ee-a99c-0a58a9feac02
DTSTAMP:20240402T192904Z
SUMMARY:Rock Enroll at LDCC Lake Providence
URL;VALUE=URI:https://www.ladelta.edu/campuses/lake-providence/calendar/569
 2102/rock-enroll-at-ldcc-lake-providence
DTSTART:20240409T150000Z
DTEND:20240409T190000Z
END:VEVENT
END:VCALENDAR
