BEGIN:VCALENDAR
VERSION:2.0
PRODID:SchoolNow
CALSCALE:GREGORIAN
BEGIN:VEVENT
UID:8dfe6f92-f2a7-11ee-96ab-0affc4084d4d
DTSTAMP:20240404T171955Z
SUMMARY:Financial Literacy Workshop by Delta Bank at LDCC Lake Providence
URL;VALUE=URI:https://www.ladelta.edu/campuses/lake-providence/calendar/570
 8039/financial-literacy-workshop-by-delta-bank-at-ldcc-lake-providence
DTSTART:20240409T150000Z
DTEND:20240409T160000Z
END:VEVENT
END:VCALENDAR
