BEGIN:VCALENDAR
VERSION:2.0
PRODID:SchoolNow
CALSCALE:GREGORIAN
BEGIN:VEVENT
UID:b86b93e0-f2a7-11ee-b481-0a58a9feac02
DTSTAMP:20240404T172106Z
SUMMARY:FAFSA Rally Night at LDCC Lake Providence
URL;VALUE=URI:https://www.ladelta.edu/campuses/lake-providence/calendar/570
 8040/fafsa-rally-night-at-ldcc-lake-providence
DTSTART:20240409T180000Z
DTEND:20240409T200000Z
END:VEVENT
END:VCALENDAR
