BEGIN:VCALENDAR
VERSION:2.0
PRODID:SchoolNow
CALSCALE:GREGORIAN
BEGIN:VEVENT
UID:1bc445fa-fc34-11ee-b381-0a58a9feac02
DTSTAMP:20240416T205842Z
SUMMARY:Knightsfest at LDCC Lake Providence
URL;VALUE=URI:https://www.ladelta.edu/campuses/lake-providence/calendar/579
 7973/knightsfest-at-ldcc-lake-providence
DTSTART:20240422T160000Z
DTEND:20240422T180000Z
END:VEVENT
END:VCALENDAR
