BEGIN:VCALENDAR
VERSION:2.0
PRODID:SchoolNow
CALSCALE:GREGORIAN
BEGIN:VEVENT
UID:7e4e53b6-cde7-11ef-bd57-0affe9fde6e3
DTSTAMP:20250108T173921Z
SUMMARY:OER Student Awareness Day: Lunch and Learn at LDCC Lake Providence!
URL;VALUE=URI:https://www.ladelta.edu/campuses/lake-providence/calendar/728
 6727/oer-student-awareness-day-lunch-and-learn-at-ldcc-lake-providence
DTSTART:20250218T180000Z
DTEND:20250218T190000Z
END:VEVENT
END:VCALENDAR
