BEGIN:VCALENDAR
VERSION:2.0
PRODID:SchoolNow
CALSCALE:GREGORIAN
BEGIN:VEVENT
UID:b7ecc0b0-ce93-11ef-b451-0a58a9feac02
DTSTAMP:20250109T141211Z
SUMMARY:Mental Health Lunch and Learn: LDCC Lake Providence
URL;VALUE=URI:https://www.ladelta.edu/campuses/lake-providence/calendar/729
 0652/mental-health-lunch-and-learn-ldcc-lake-providence
DTSTART:20250205T170000Z
DTEND:20250205T180000Z
END:VEVENT
END:VCALENDAR
